BEGIN:VCALENDAR
VERSION:2.0
PRODID:-//Bücherei Leck - ECPv6.15.15//NONSGML v1.0//EN
CALSCALE:GREGORIAN
METHOD:PUBLISH
X-WR-CALNAME:Bücherei Leck
X-ORIGINAL-URL:https://buecherei-leck.de
X-WR-CALDESC:Veranstaltungen für Bücherei Leck
REFRESH-INTERVAL;VALUE=DURATION:PT1H
X-Robots-Tag:noindex
X-PUBLISHED-TTL:PT1H
BEGIN:VTIMEZONE
TZID:Europe/Berlin
BEGIN:DAYLIGHT
TZOFFSETFROM:+0100
TZOFFSETTO:+0200
TZNAME:CEST
DTSTART:20240331T010000
END:DAYLIGHT
BEGIN:STANDARD
TZOFFSETFROM:+0200
TZOFFSETTO:+0100
TZNAME:CET
DTSTART:20241027T010000
END:STANDARD
BEGIN:DAYLIGHT
TZOFFSETFROM:+0100
TZOFFSETTO:+0200
TZNAME:CEST
DTSTART:20250330T010000
END:DAYLIGHT
BEGIN:STANDARD
TZOFFSETFROM:+0200
TZOFFSETTO:+0100
TZNAME:CET
DTSTART:20251026T010000
END:STANDARD
BEGIN:DAYLIGHT
TZOFFSETFROM:+0100
TZOFFSETTO:+0200
TZNAME:CEST
DTSTART:20260329T010000
END:DAYLIGHT
BEGIN:STANDARD
TZOFFSETFROM:+0200
TZOFFSETTO:+0100
TZNAME:CET
DTSTART:20261025T010000
END:STANDARD
END:VTIMEZONE
BEGIN:VEVENT
DTSTART;TZID=Europe/Berlin:20250206T190000
DTEND;TZID=Europe/Berlin:20250206T210000
DTSTAMP:20260422T141433
CREATED:20250130T104630Z
LAST-MODIFIED:20250130T105145Z
UID:1526-1738868400-1738875600@buecherei-leck.de
SUMMARY:Autor Andreas Schmidt liest aus seinem Förde-Krimi „DeichSühne“
DESCRIPTION:Andreas Schmidt wechselt kurzweilige und amüsante Erzähl-Passagen\, in denen er auf unterhaltsame Weise über die Entstehung eines Kriminalromanes plaudert\, mit atemberaubenden Lesesequenzen aus „DeichSühne“ ab. \nDie Textpassagen werden stimmungsvoll und atmosphärisch begleitet von Musik und zahlreichen Geräuschen\, sodass „DeichSühne“ noch lebendiger erscheint und das Publikum sich »mittendrin« fühlt. \nSo liest der Autor über eine unheimliche Szene im Nebel – dazu wabert der Nebel auch in Wirklichkeit über den Boden. \nSo entsteht »Kino für die Ohren«. \n\nDie Lesung ist eine Kooperation zwischen dem Leck-Huus e.V.\, der Buchhandlung Blattwerk und der Bücherei Leck. \nDie Eintrittskarten für unsere Veranstaltungen erhalten Sie an folgenden Vorverkaufsstellen: \nBuchhandlung Blattwerk: Hauptstraße 22\, 25917 Leck\, 04662 8993134\nBücherstube Leu: Hauptstraße 48\, 25899 Niebüll\, 04661 5722 \nNatürlich können Sie Ihre Eintrittskarten auch per Mail bestellen. Dazu stehen wir Ihnen per Mail unter info@leck-huus.de oder telefonisch unter 04662 / 25 76 zur Seite. Abendkasse je nach Verfügbarkeit. \nEinlass 18 Uhr
URL:https://buecherei-leck.de/event/autor-andreas-schmidt-liest-aus-seinem-foerde-krimi-deichsuehne/
LOCATION:Bürger- und Kulturhof Leck-Huus\, Allee 32\, Leck\, Schleswig-Holstein\, 25917\, Germany
CATEGORIES:Lesung
ATTACH;FMTTYPE=image/jpeg:https://buecherei-leck.de/wp-content/uploads/408914506_6905655812858434_1770017989175187899_n.jpeg
ORGANIZER;CN="B%C3%BCrger- und Kulturhof Leck-Huus e.V.":MAILTO:info@leck-huus.de
END:VEVENT
END:VCALENDAR