BEGIN:VCALENDAR
VERSION:2.0
PRODID:-//Bücherei Leck - ECPv6.15.15//NONSGML v1.0//EN
CALSCALE:GREGORIAN
METHOD:PUBLISH
X-ORIGINAL-URL:https://buecherei-leck.de
X-WR-CALDESC:Veranstaltungen für Bücherei Leck
REFRESH-INTERVAL;VALUE=DURATION:PT1H
X-Robots-Tag:noindex
X-PUBLISHED-TTL:PT1H
BEGIN:VTIMEZONE
TZID:Europe/Berlin
BEGIN:DAYLIGHT
TZOFFSETFROM:+0100
TZOFFSETTO:+0200
TZNAME:CEST
DTSTART:20240331T010000
END:DAYLIGHT
BEGIN:STANDARD
TZOFFSETFROM:+0200
TZOFFSETTO:+0100
TZNAME:CET
DTSTART:20241027T010000
END:STANDARD
BEGIN:DAYLIGHT
TZOFFSETFROM:+0100
TZOFFSETTO:+0200
TZNAME:CEST
DTSTART:20250330T010000
END:DAYLIGHT
BEGIN:STANDARD
TZOFFSETFROM:+0200
TZOFFSETTO:+0100
TZNAME:CET
DTSTART:20251026T010000
END:STANDARD
BEGIN:DAYLIGHT
TZOFFSETFROM:+0100
TZOFFSETTO:+0200
TZNAME:CEST
DTSTART:20260329T010000
END:DAYLIGHT
BEGIN:STANDARD
TZOFFSETFROM:+0200
TZOFFSETTO:+0100
TZNAME:CET
DTSTART:20261025T010000
END:STANDARD
END:VTIMEZONE
BEGIN:VEVENT
DTSTART;TZID=Europe/Berlin:20250306T190000
DTEND;TZID=Europe/Berlin:20250306T213000
DTSTAMP:20260422T122859
CREATED:20250130T150724Z
LAST-MODIFIED:20250210T100312Z
UID:1536-1741287600-1741296600@buecherei-leck.de
SUMMARY:Lesung mit Silke von Bremen
DESCRIPTION:Am Donnerstag\, den 06. März um 19 Uhr liest die Autorin Silke von Bremen im Leck Huus aus ihrem aktuellen Roman „Stumme Zeit“: \n„Als Sönnich Petersen stirbt\, ist niemand traurig in dem kleinen Dorf auf Sylt. Auch seine Tochter Helma weint ihm keine Träne nach. Er war kein liebevoller Vater\, der Krieg hatte ihn hart gemacht. Die Nachkriegszeit bringt den Tourismus nach Sylt und auch Helma vermietet bald an Badegäste. Etwas beschäftigt sie aber immer noch: über ihre früh verstorbene Mutter wurde immer geschwiegen. Ebenso umgibt die Mutter ihres Kindheitsfreundes Rudi ein Geheimnis. Sie wurde während des Krieges abgeholt und ist seitdem verschwunden. Warum fragt niemand nach ihnen? …“ \nDie Lesung ist eine gemeinsame Veranstaltung von Buchhandlung Blattwerk\, Leck Huus und Bücherei Leck. Der Eintritt beträgt 10€ und die Eintrittskarten sind an folgenden Vorverkaufsstellen erhältlich: \nBuchhandlung Blattwerk: Hauptstr. 22\, 25917 Leck\, 04662-8993134 \nBücherstube Leu: Hauptstr. 48\, 25899 Niebüll\, 04661-5722
URL:https://buecherei-leck.de/event/lesung-mit-silke-von-bremen/
LOCATION:Bürger- und Kulturhof Leck-Huus\, Allee 32\, Leck\, Schleswig-Holstein\, 25917\, Germany
CATEGORIES:Lesung
ATTACH;FMTTYPE=image/jpeg:https://buecherei-leck.de/wp-content/uploads/StummeZeit.jpg
ORGANIZER;CN="B%C3%BCcherei Leck":MAILTO:info@buecherei-leck.de
END:VEVENT
END:VCALENDAR