BEGIN:VCALENDAR
VERSION:2.0
PRODID:-//Bücherei Leck - ECPv6.15.15//NONSGML v1.0//EN
CALSCALE:GREGORIAN
METHOD:PUBLISH
X-ORIGINAL-URL:https://buecherei-leck.de
X-WR-CALDESC:Veranstaltungen für Bücherei Leck
REFRESH-INTERVAL;VALUE=DURATION:PT1H
X-Robots-Tag:noindex
X-PUBLISHED-TTL:PT1H
BEGIN:VTIMEZONE
TZID:Europe/Berlin
BEGIN:DAYLIGHT
TZOFFSETFROM:+0100
TZOFFSETTO:+0200
TZNAME:CEST
DTSTART:20240331T010000
END:DAYLIGHT
BEGIN:STANDARD
TZOFFSETFROM:+0200
TZOFFSETTO:+0100
TZNAME:CET
DTSTART:20241027T010000
END:STANDARD
BEGIN:DAYLIGHT
TZOFFSETFROM:+0100
TZOFFSETTO:+0200
TZNAME:CEST
DTSTART:20250330T010000
END:DAYLIGHT
BEGIN:STANDARD
TZOFFSETFROM:+0200
TZOFFSETTO:+0100
TZNAME:CET
DTSTART:20251026T010000
END:STANDARD
BEGIN:DAYLIGHT
TZOFFSETFROM:+0100
TZOFFSETTO:+0200
TZNAME:CEST
DTSTART:20260329T010000
END:DAYLIGHT
BEGIN:STANDARD
TZOFFSETFROM:+0200
TZOFFSETTO:+0100
TZNAME:CET
DTSTART:20261025T010000
END:STANDARD
END:VTIMEZONE
BEGIN:VEVENT
DTSTART;TZID=Europe/Berlin:20250612T190000
DTEND;TZID=Europe/Berlin:20250612T203000
DTSTAMP:20260422T174201
CREATED:20250519T090909Z
LAST-MODIFIED:20250519T101307Z
UID:1583-1749754800-1749760200@buecherei-leck.de
SUMMARY:H. Dieter Neumann liest im Leck Huus
DESCRIPTION:Am Donnerstag\, den 12. Juni\, 19 Uhr liest der Autor H. Dieter Neumann im Leck Huus aus seinem neuesten Sachbuch „Meerjungfrauen\, Seeungeheuer und der Klabautermann – Mythen und Legenden der Seefahrt“.  \nDer Autor erzählt Geschichten aus der Seefahrt mit ihren schrecklichen Seeungeheuern\, unheimlichen Geisterschiffen und Schabernack treibenden Klabautermännern\, gleichzeitig erfährt man aber auch mehr über die historischen Hintergründe dieser Erzählungen und Mythen. \nDie Veranstaltung findet in Kooperation mit der Buchhandlung Blattwerk und der Bücherei Leck statt. Der Eintritt beträgt 10€ und Eintrittskarten sind an folgenden Vorverkaufsstellen erhältlich: \nBuchhandlung Blattwerk: Hauptstraße 22\, 25917 Leck\, 04662 8993134\nBücherstube Leu: Hauptstraße 48\, 25899 Niebüll\, 04661 5722
URL:https://buecherei-leck.de/event/h-dieter-neumann-liest-im-leck-huus/
LOCATION:Bürger- und Kulturhof Leck-Huus\, Allee 32\, Leck\, Schleswig-Holstein\, 25917\, Germany
CATEGORIES:Lesung
ATTACH;FMTTYPE=image/jpeg:https://buecherei-leck.de/wp-content/uploads/meerjungfrauenundseeungeheuer.jpeg
ORGANIZER;CN="B%C3%BCrger- und Kulturhof Leck-Huus e.V.":MAILTO:info@leck-huus.de
END:VEVENT
END:VCALENDAR