BEGIN:VCALENDAR
VERSION:2.0
PRODID:-//Bücherei Leck - ECPv6.15.15//NONSGML v1.0//EN
CALSCALE:GREGORIAN
METHOD:PUBLISH
X-WR-CALNAME:Bücherei Leck
X-ORIGINAL-URL:https://buecherei-leck.de
X-WR-CALDESC:Veranstaltungen für Bücherei Leck
REFRESH-INTERVAL;VALUE=DURATION:PT1H
X-Robots-Tag:noindex
X-PUBLISHED-TTL:PT1H
BEGIN:VTIMEZONE
TZID:Europe/Berlin
BEGIN:DAYLIGHT
TZOFFSETFROM:+0100
TZOFFSETTO:+0200
TZNAME:CEST
DTSTART:20240331T010000
END:DAYLIGHT
BEGIN:STANDARD
TZOFFSETFROM:+0200
TZOFFSETTO:+0100
TZNAME:CET
DTSTART:20241027T010000
END:STANDARD
BEGIN:DAYLIGHT
TZOFFSETFROM:+0100
TZOFFSETTO:+0200
TZNAME:CEST
DTSTART:20250330T010000
END:DAYLIGHT
BEGIN:STANDARD
TZOFFSETFROM:+0200
TZOFFSETTO:+0100
TZNAME:CET
DTSTART:20251026T010000
END:STANDARD
BEGIN:DAYLIGHT
TZOFFSETFROM:+0100
TZOFFSETTO:+0200
TZNAME:CEST
DTSTART:20260329T010000
END:DAYLIGHT
BEGIN:STANDARD
TZOFFSETFROM:+0200
TZOFFSETTO:+0100
TZNAME:CET
DTSTART:20261025T010000
END:STANDARD
END:VTIMEZONE
BEGIN:VEVENT
DTSTART;TZID=Europe/Berlin:20250703T190000
DTEND;TZID=Europe/Berlin:20250703T203000
DTSTAMP:20260422T191748
CREATED:20250612T093502Z
LAST-MODIFIED:20250612T141917Z
UID:1590-1751569200-1751574600@buecherei-leck.de
SUMMARY:Lesung mit Janne Mommsen
DESCRIPTION:Am Donnerstag\, den 03. Juli um 19 Uhr liest der Autor Janne Mommsen im Leck Huus aus seinem neuesten Roman „Das Licht in den Wellen“: \n„Der 100. Geburtstag der Föhrerin Inge Martensen soll groß gefeiert werden\, aber kurz vor dem großen Fest haut sie einfach ab. Mit ihrer Urenkelin Swantje fährt sie mit dem Schiff nach New York. Noch einmal will sie das Land besuchen\, in das sie als junge Frau ganz alleine auswanderte. Während der Überfahrt erzählt sie Swantje ihre Geschichte…“ \nDie Lesung ist eine gemeinsame Veranstaltung von Leck Huus\, der Bücherei Leck und der Buchhandlung Blattwerk. Der Eintritt beträgt 10€ und Eintrittskarten sind an folgenden Vorverkaufsstellen erhältlich: \nBuchhandlung Blattwerk: Hauptstraße 22\, 25917 Leck\, 04662 8993134\nBücherstube Leu: Hauptstraße 48\, 25899 Niebüll\, 04661 5722
URL:https://buecherei-leck.de/event/lesung-mit-janne-mommsen/
LOCATION:Bürger- und Kulturhof Leck-Huus\, Allee 32\, Leck\, Schleswig-Holstein\, 25917\, Germany
CATEGORIES:Lesung
ATTACH;FMTTYPE=image/jpeg:https://buecherei-leck.de/wp-content/uploads/Mommsen_Das-Licht-in-den-Wellen.jpg
ORGANIZER;CN="B%C3%BCcherei Leck":MAILTO:info@buecherei-leck.de
END:VEVENT
END:VCALENDAR